BEGIN:VCALENDAR
VERSION:2.0
BEGIN:VEVENT
STATUS:TENTATIVE
DTSTART:20170615T080000Z
DTEND:20170615T093000Z
SUMMARY:Sesión Wolters Kluwer: Cómo aplica Wolters Kluwer a las soluciones A3ECO/A3CON, los cambios legales (SII).
LOCATION:Sede Central. C/ Claudio Coello nº106, 6º Derecha
DESCRIPTION:Jornada. De 10:00 a 11:30 
END:VEVENT
END:VCALENDAR
