BEGIN:VCALENDAR
VERSION:2.0
BEGIN:VEVENT
STATUS:TENTATIVE
DTSTART:20170615T143000Z
DTEND:20170615T173000Z
SUMMARY:El nuevo sistema de suministro inmediato de información (SII)
LOCATION:Auditorio del Business World Alicante
DESCRIPTION:Jornada. Horario:16:30 a 19:30
END:VEVENT
END:VCALENDAR
