BEGIN:VCALENDAR
VERSION:2.0
BEGIN:VEVENT
STATUS:TENTATIVE
DTSTART:20170720T080000Z
DTEND:20170720T100000Z
SUMMARY:Aplicaciones prácticas: la nueva normativa en Prevención del Blanqueo de Capitales y Financiación del Terrorismo
LOCATION:Sede Central de AEDAF. C/ Claudio Coello 106, 6º Derecha
DESCRIPTION:Jornada. de 10:00 a 12:00
END:VEVENT
END:VCALENDAR
