BEGIN:VCALENDAR
VERSION:2.0
BEGIN:VEVENT
STATUS:TENTATIVE
DTSTART:20170920T073000Z
DTEND:20170920T090000Z
SUMMARY:La obligación de revelación de esquemas de planificación fiscal agresiva en la UE
LOCATION:Sede Central, C/ Claudio Coello 106, 6º dcha.
DESCRIPTION:Tertulia. Ponente: Jesús Rodríguez Márquez
END:VEVENT
END:VCALENDAR
