BEGIN:VCALENDAR
VERSION:2.0
BEGIN:VEVENT
STATUS:TENTATIVE
DTSTART:20171010T073000Z
DTEND:20171010T163000Z
SUMMARY:III Seminario de Derecho Mercantil y Tributario
LOCATION:Universidad Pontificia de Comillas ICADE (Alberto Aguilera, 23)
DESCRIPTION:Seminario. 
END:VEVENT
END:VCALENDAR
