BEGIN:VCALENDAR
VERSION:2.0
BEGIN:VEVENT
STATUS:TENTATIVE
DTSTART:20171004T143000Z
DTEND:20171004T173000Z
SUMMARY:Actualización Tributaria
LOCATION:Auditorio del Business World Alicante, 4 Planta.
DESCRIPTION:Jornada. Horario:16:30 a 19:30
END:VEVENT
END:VCALENDAR
