BEGIN:VCALENDAR
VERSION:2.0
BEGIN:VEVENT
STATUS:TENTATIVE
DTSTART:20171017T140000Z
DTEND:20171017T180000Z
SUMMARY:Aspectos conflictivos en la aplicación de los CDI
LOCATION:Sede Central, C/ Claudio Coello 106, 6º dcha.
DESCRIPTION:Jornada. Ponente: Néstor Carmona, Jefe de la Oficina Nacional de Fiscalidad Internacional de la Agencia Estatal de la Administración Tributaria
END:VEVENT
END:VCALENDAR
