BEGIN:VCALENDAR
VERSION:2.0
BEGIN:VEVENT
STATUS:TENTATIVE
DTSTART:20171005T080000Z
DTEND:20171005T121500Z
SUMMARY:IVA: Cuestiones problemáticas del derecho a deducir y  otros temas controvertidos
LOCATION:Salón de Actos  del Colegio de Abogados de Sevilla.  C/ Chapineros, 6
DESCRIPTION:Jornada. De 10:00 a 14:15
END:VEVENT
END:VCALENDAR
