BEGIN:VCALENDAR
VERSION:2.0
BEGIN:VEVENT
STATUS:TENTATIVE
DTSTART:20171004T093000Z
DTEND:20171004T120000Z
SUMMARY:Aspectos prácticos de la implantación y gestión del SII
LOCATION:Nuevo Casino Eslava. Plaza del Castilo, 16
DESCRIPTION:Jornada. Ponente: Ana Torres Ramirez. Gerente de Gestión de Proyectos en la Dirección Corporativa Económico y Fiscal de ‎Repsol
END:VEVENT
END:VCALENDAR
