BEGIN:VCALENDAR
VERSION:2.0
BEGIN:VEVENT
STATUS:TENTATIVE
DTSTART:20171005T150000Z
DTEND:20171005T183000Z
SUMMARY:Las reclamaciones económico-administrativas desde una vertiente práctica
LOCATION:Universidad de Derecho.  Campus de la Merced, calle Santo Cristo, 1, Murcia Sala de Juntas en planta baja.  Entrada por patio central.
DESCRIPTION:Jornada. De 17:00 a 20:30
END:VEVENT
END:VCALENDAR
