BEGIN:VCALENDAR
VERSION:2.0
BEGIN:VEVENT
STATUS:TENTATIVE
DTSTART:20171102T153000Z
DTEND:20171102T183000Z
SUMMARY:Operaciones vinculadas:obligaciones de documentación y nuevo modelo 232.
LOCATION:Auditorio del Business Worl Alicante. 4º Planta
DESCRIPTION:Jornada. Horario:16:30 a 19:30
END:VEVENT
END:VCALENDAR
