BEGIN:VCALENDAR
VERSION:2.0
BEGIN:VEVENT
STATUS:TENTATIVE
DTSTART:20171109T090000Z
DTEND:20171109T130000Z
SUMMARY:Aspectos prácticos del cierre fiscal y contable del ejercicio 2017.
LOCATION:Auditorio del Business World Alicante. 4ª Planta
DESCRIPTION:Jornada. Horario: 10:00 a 14:00
END:VEVENT
END:VCALENDAR
