BEGIN:VCALENDAR
VERSION:2.0
BEGIN:VEVENT
STATUS:TENTATIVE
DTSTART:20171220T160000Z
DTEND:20171220T190000Z
SUMMARY:Cierre Fiscal 2017
LOCATION:Hotel Urban Madrid, Carrera de San Jerónimo, 34
DESCRIPTION:Jornada. Ponente: D. Ignacio Ucelay
END:VEVENT
END:VCALENDAR
