BEGIN:VCALENDAR
VERSION:2.0
BEGIN:VEVENT
STATUS:TENTATIVE
DTSTART:20171116T153000Z
DTEND:20171116T193000Z
SUMMARY:Operaciones de reestructuración.Transformación de una persona física a jurídica sin coste fiscal.
LOCATION:Universidad de Murcia: Aulario de La Merced (antigua Facultad de Matemáticas y Química) - Campus de la Merced - Aula 1.15”
DESCRIPTION:Jornada. 
END:VEVENT
END:VCALENDAR
