BEGIN:VCALENDAR
VERSION:2.0
BEGIN:VEVENT
STATUS:TENTATIVE
DTSTART:20171102T160000Z
DTEND:20171102T180000Z
SUMMARY:Cuestiones prácticas del Procedimiento de Recaudación
LOCATION:Hotel Astoria, plaza Rodrigo Botet, 5, Valencia
DESCRIPTION:Jornada. 
END:VEVENT
END:VCALENDAR
