BEGIN:VCALENDAR
VERSION:2.0
BEGIN:VEVENT
STATUS:TENTATIVE
DTSTART:20171114T160000Z
DTEND:20171114T190000Z
SUMMARY:Cuestiones procesales de la revisión jurisdiccional en materia de derecho tributario
LOCATION:Sede AEDAF Valencia. Calle La Paz, 35 - Pta 4
DESCRIPTION:Jornada. 
END:VEVENT
END:VCALENDAR
