BEGIN:VCALENDAR
VERSION:2.0
BEGIN:VEVENT
STATUS:TENTATIVE
DTSTART:20171121T160000Z
DTEND:20171121T190000Z
SUMMARY:Cuestiones procesales de la revisión jurisdiccional en materia de derecho tributario
LOCATION:Colegio de Abogados de Carrer de Temprado, 15, 12002 Castellón
DESCRIPTION:Jornada. 
END:VEVENT
END:VCALENDAR
