BEGIN:VCALENDAR
VERSION:2.0
BEGIN:VEVENT
STATUS:TENTATIVE
DTSTART:20171124T090000Z
DTEND:20171124T130000Z
SUMMARY:Seminario Internacional: La lucha contra el fraude fiscal en España y en la Unión Europea
LOCATION:Salón de Actos de la Facultad de Derecho, Universidad de Sevilla c/ Enramadilla, 18-20  --  41018-Sevilla
DESCRIPTION:Jornada. 
END:VEVENT
END:VCALENDAR
