BEGIN:VCALENDAR
VERSION:2.0
BEGIN:VEVENT
STATUS:TENTATIVE
DTSTART:20171115T150000Z
DTEND:20171115T180000Z
SUMMARY:Derechos y Garantías en la Norma Foral General Tributaria y el registro del domicilio
LOCATION:Ilustre Colegio de Abogados de Bizkaia Rampas de Uribitarte, 3
DESCRIPTION:Jornada. 
END:VEVENT
END:VCALENDAR
