BEGIN:VCALENDAR
VERSION:2.0
BEGIN:VEVENT
STATUS:TENTATIVE
DTSTART:20171116T150000Z
DTEND:20171116T180000Z
SUMMARY:Derechos y garantías en materia tributaria
LOCATION:Ilustre Colegio de Abogados de Gipuzkoa Pº Duque de Mandas, 11
DESCRIPTION:Jornada. 
END:VEVENT
END:VCALENDAR
