BEGIN:VCALENDAR
VERSION:2.0
BEGIN:VEVENT
STATUS:TENTATIVE
DTSTART:20171120T153000Z
DTEND:20171120T183000Z
SUMMARY:Curso práctico sobre el IVA
LOCATION:Sede de Valencia. Calle de la Paz, nº 35, pta. 4ª
DESCRIPTION:Jornada. Ponente: Javier Bas Soria, Inspector Unidad Regional de Recaudación en la Delegación Especial de Valencia
END:VEVENT
END:VCALENDAR
