BEGIN:VCALENDAR
VERSION:2.0
BEGIN:VEVENT
STATUS:TENTATIVE
DTSTART:20171123T150000Z
DTEND:20171123T183000Z
SUMMARY:Curso básico de Excel
LOCATION:Sede Valencia. c/ La Paz, 35 - Pta 4;
DESCRIPTION:Jornada. Es necesario llevar ordenador partátil que tenga instalado el programa Excel, recomendada la versión 2010 o superior
END:VEVENT
END:VCALENDAR
