BEGIN:VCALENDAR
VERSION:2.0
BEGIN:VEVENT
STATUS:TENTATIVE
DTSTART:20171130T150000Z
DTEND:20171130T183000Z
SUMMARY:Curso avanzado de Excel
LOCATION:Sede  AEDAF Valencia. c/ La Paz, 35 - Pta 4;
DESCRIPTION:Jornada. Será necesario traer ordenador portátil con el programa Excel instalado (recomendada la versión 2010 o superior)
END:VEVENT
END:VCALENDAR
