BEGIN:VCALENDAR
VERSION:2.0
BEGIN:VEVENT
STATUS:TENTATIVE
DTSTART:20171129T161500Z
DTEND:20171129T184500Z
SUMMARY:Cuestiones conflictivas en el IVA
LOCATION:Zaragoza. Colegio de Abogados de Zaragoza. Salón del Decanato (2ª planta)
DESCRIPTION:Jornada. 
END:VEVENT
END:VCALENDAR
