BEGIN:VCALENDAR
VERSION:2.0
BEGIN:VEVENT
STATUS:TENTATIVE
DTSTART:20171129T150000Z
DTEND:20171129T180000Z
SUMMARY:La Reforma de la NFGT en el Territorio Histórico de Bizkaia
LOCATION:Ilustre Colegio de Abogados de Bizkaia Rampas de Uribitarte, 3
DESCRIPTION:Jornada. 
END:VEVENT
END:VCALENDAR
