BEGIN:VCALENDAR
VERSION:2.0
BEGIN:VEVENT
STATUS:TENTATIVE
DTSTART:20171212T153000Z
DTEND:20171212T180000Z
SUMMARY:Ley de Sociedades 26/2016 y sobre la reciente reforma fiscal para el 2018 planteada por el GN, actualmente en Proyecto
LOCATION:Nuevo Casino Eslava. Plaza del Castillo, 16
DESCRIPTION:Jornada. Ponente: Javier Zabaleta Zúñiga. Director del Servicio de Desarrollo Normativo y Asesoramiento Jurídico de HTN.
END:VEVENT
END:VCALENDAR
