BEGIN:VCALENDAR
VERSION:2.0
BEGIN:VEVENT
STATUS:TENTATIVE
DTSTART:20171211T150000Z
DTEND:20171211T180000Z
SUMMARY:Cierre Fiscal 2017
LOCATION:Hotel Carlton. Plaza Moyua 2
DESCRIPTION:Jornada. Ponente: Antonio Pérez Delgado Inspector de Hacienda. Subdirector de Inspección de la Hacienda Foral de Bizkaia
END:VEVENT
END:VCALENDAR
