BEGIN:VCALENDAR
VERSION:2.0
BEGIN:VEVENT
STATUS:TENTATIVE
DTSTART:20171219T101500Z
DTEND:20171219T130000Z
SUMMARY:La reformas tributarias que se avecinan
LOCATION:Jornada: Edificio histórico de la Universidad de Oviedo C/ San Francisco Aula escalonada, situada a la derecha del aula magna. Comida: La Leyenda del Gayo C/ Altamirano 9
DESCRIPTION:Jornada. Ponente: Marcos Pascual González. Profesor de la Facultad de Derecho y Miembro de AEDAF
END:VEVENT
END:VCALENDAR
