BEGIN:VCALENDAR
VERSION:2.0
BEGIN:VEVENT
STATUS:TENTATIVE
DTSTART:20180111T153000Z
DTEND:20180111T183000Z
SUMMARY:Jornada de actualización tributaria.Especial atención a las normas aprobada en el último trimestre de 2017
LOCATION:Auditorio del Business World Alicante, 4º Planta. Muelle de Poniente, s/n.
DESCRIPTION:Jornada. Horario:16:30 a 19:30
END:VEVENT
END:VCALENDAR
