BEGIN:VCALENDAR
VERSION:2.0
BEGIN:VEVENT
STATUS:TENTATIVE
DTSTART:20180123T153000Z
DTEND:20180123T190000Z
SUMMARY:Cierre Fiscal del ejercicio 2017
LOCATION:Hotel Ayre Astoria. Plaza Rodrigo Botet
DESCRIPTION:Jornada. 
END:VEVENT
END:VCALENDAR
