BEGIN:VCALENDAR
VERSION:2.0
BEGIN:VEVENT
STATUS:TENTATIVE
DTSTART:20180111T163000Z
DTEND:20180111T183000Z
SUMMARY:La entrada y registro domiciliario por la inspección de Hacienda
LOCATION:Sede Aedaf .  Calle de la Paz
DESCRIPTION:Jornada. 
END:VEVENT
END:VCALENDAR
