BEGIN:VCALENDAR
VERSION:2.0
BEGIN:VEVENT
STATUS:TENTATIVE
DTSTART:20180205T153000Z
DTEND:20180205T183000Z
SUMMARY:Cierre fiscal y contable 2017.Especial incidencia en la compensación de bases imponibles negativas y la exención sobre dividendos y rentas derivadas de la transmisión de valores del art. 21 LIS
LOCATION:Salón de Actos de la Facultad de Derecho de Albacete.Plaza de la Universidad, 1.
DESCRIPTION:Jornada. Horario: 16:30 a 19:30
END:VEVENT
END:VCALENDAR
