BEGIN:VCALENDAR
VERSION:2.0
BEGIN:VEVENT
STATUS:TENTATIVE
DTSTART:20180207T153000Z
DTEND:20180207T183000Z
SUMMARY:Cuestiones actuales en el orden Contencioso - Administrativo.
LOCATION:Auditorio del Business World Alicante, 4º Planta. Muelle de Poniente, s/n.
DESCRIPTION:Jornada. Horario:16:30 a 19:30
END:VEVENT
END:VCALENDAR
