BEGIN:VCALENDAR
VERSION:2.0
BEGIN:VEVENT
STATUS:TENTATIVE
DTSTART:20180301T153000Z
DTEND:20180301T183000Z
SUMMARY:Optimización de incentivos fiscales en I+D+I. Análisis práctico.
LOCATION:Auditorio del Business World Alicante, 4º Planta. Muelle de Poniente, s/n.
DESCRIPTION:Jornada. 
END:VEVENT
END:VCALENDAR
