BEGIN:VCALENDAR
VERSION:2.0
BEGIN:VEVENT
STATUS:TENTATIVE
DTSTART:20180307T153000Z
DTEND:20180307T183000Z
SUMMARY:Modificaciones tributarias aprobadas para 2018 en el ámbito de la Comunidad Valenciana.Especial atención al ISD e ITPAJD y aspectos prácticos del Testamento del Empresario
LOCATION:Auditorio del Business World Alicante, 4º Planta. Muelle de Poniente, s/n.
DESCRIPTION:Jornada. Horario: 16:30 a 19:30
END:VEVENT
END:VCALENDAR
