BEGIN:VCALENDAR
VERSION:2.0
BEGIN:VEVENT
STATUS:TENTATIVE
DTSTART:20180126T083000Z
DTEND:20180126T103000Z
SUMMARY:Las medidas fiscales de la Ley 9/2017, de 26 de diciembre
LOCATION:Hotel Bahía de Santander
DESCRIPTION:Jornada. Ponente: D. Pedro Pérez Eslava, Director General de la Agencia Cántabra de Administración Tributaria.
END:VEVENT
END:VCALENDAR
