BEGIN:VCALENDAR
VERSION:2.0
BEGIN:VEVENT
STATUS:TENTATIVE
DTSTART:20180213T153000Z
DTEND:20180213T183000Z
SUMMARY:El artículo 21 del Impuesto sobre Sociedades. Los dividendos y rentas por la participación en fondos propios de entidades
LOCATION:Hotel Ayre Astoria. Plaza Rodrigo Botet
DESCRIPTION:Jornada. 
END:VEVENT
END:VCALENDAR
