BEGIN:VCALENDAR
VERSION:2.0
BEGIN:VEVENT
STATUS:TENTATIVE
DTSTART:20180215T153000Z
DTEND:20180215T193000Z
SUMMARY:Soluciones prácticas para el cierre fiscal y contable 2017
LOCATION:Facultad de Derecho, Universidad de Murcia (Campus de la Merced, calle Santo Cristo, 1, Murcia). Sala de Grados, en planta baja. Entrada por patio central.
DESCRIPTION:Jornada. 
END:VEVENT
END:VCALENDAR
