BEGIN:VCALENDAR
VERSION:2.0
BEGIN:VEVENT
STATUS:TENTATIVE
DTSTART:20180215T153000Z
DTEND:20180215T191500Z
SUMMARY:Responsabilidad Tributaria
LOCATION:Salón de Actos  del Colegio de Abogados de Sevilla.  C/ Chapineros, 6
DESCRIPTION:Jornada. 
END:VEVENT
END:VCALENDAR
