BEGIN:VCALENDAR
VERSION:2.0
BEGIN:VEVENT
STATUS:TENTATIVE
DTSTART:20180221T083000Z
DTEND:20180221T183000Z
SUMMARY:Fiscalidad autonómica y Local
LOCATION:Facultad de Derecho y CC SS de Ciudad Real (Ronda de Toledo, s/n.)
DESCRIPTION:Jornada. 
END:VEVENT
END:VCALENDAR
