BEGIN:VCALENDAR
VERSION:2.0
BEGIN:VEVENT
STATUS:TENTATIVE
DTSTART:20180223T090000Z
DTEND:20180223T120000Z
SUMMARY:Taller práctico sobre el ya no tan nuevo Recurso de Casación
LOCATION:Hotel Meliá Serrano (C/Claudio Coello 139)
DESCRIPTION:Jornada. Ponente: Felipe Alonso Murillo
END:VEVENT
END:VCALENDAR
