BEGIN:VCALENDAR
VERSION:2.0
BEGIN:VEVENT
STATUS:TENTATIVE
DTSTART:20180219T153000Z
DTEND:20180219T183000Z
SUMMARY:Gestión de riesgos e IVA: áreas prioritarias
LOCATION:Sede Central (Claudio Coello, 106 6º dcha)
DESCRIPTION:Jornada. Ponente: Javier Sánchez Gallardo
END:VEVENT
END:VCALENDAR
