BEGIN:VCALENDAR
VERSION:2.0
BEGIN:VEVENT
STATUS:TENTATIVE
DTSTART:20180221T150000Z
DTEND:20180221T180000Z
SUMMARY:Cierre fiscal del ejercicio 2017
LOCATION:Colegio de Abogados. Salón Decanato (planta 2ª) 
DESCRIPTION:Jornada. Ponente: Antonio Viñuela Llanos, Abogado. Miembro de la Sección de Impuesto sobre Sociedades de la AEDAF.
END:VEVENT
END:VCALENDAR
