BEGIN:VCALENDAR
VERSION:2.0
BEGIN:VEVENT
STATUS:TENTATIVE
DTSTART:20180315T084500Z
DTEND:20180315T173000Z
SUMMARY:XI Encuentro AEDAF, Jornada Nacional de Estudio.
LOCATION:Sede de Barcelona (C/Provença, 281 – local)
DESCRIPTION:Jornada. 
END:VEVENT
END:VCALENDAR
