BEGIN:VCALENDAR
VERSION:2.0
BEGIN:VEVENT
STATUS:TENTATIVE
DTSTART:20180907T070000Z
DTEND:20180907T180000Z
SUMMARY:Curso de Verano de Santiago de Compostela: La transformación digital:  un nuevo camino  para el asesor fiscal
LOCATION:Centro de Obra Social ABANCA Pz. Cervantes, 14-20 Santiago de Compostela
DESCRIPTION:Jornada. 
END:VEVENT
END:VCALENDAR
