BEGIN:VCALENDAR
VERSION:2.0
BEGIN:VEVENT
STATUS:TENTATIVE
DTSTART:20180228T150000Z
DTEND:20180228T180000Z
SUMMARY:Jornada Sociedades Patrimoniales
LOCATION:Hotel Carlton. Plaza Federico Moyua, 2. Bilbao
DESCRIPTION:Jornada. 
END:VEVENT
END:VCALENDAR
