BEGIN:VCALENDAR
VERSION:2.0
BEGIN:VEVENT
STATUS:TENTATIVE
DTSTART:20180301T193000Z
DTEND:20180301T210000Z
SUMMARY:Cena cóctel Conferencia sobre Responsabilidad Tributaria
LOCATION:Restaurante Imperdible Colón (C/ Martínez Ferrando, 5. Valencia)
DESCRIPTION:Jornada. 
END:VEVENT
END:VCALENDAR
