BEGIN:VCALENDAR
VERSION:2.0
BEGIN:VEVENT
STATUS:TENTATIVE
DTSTART:20180322T150000Z
DTEND:20180322T180000Z
SUMMARY:Cierre contable y fiscal 2017
LOCATION:Nuevo Casino Eslava  Plaza del Castillo, 16(Pamplona) 
DESCRIPTION:Jornada. 
END:VEVENT
END:VCALENDAR
