BEGIN:VCALENDAR
VERSION:2.0
BEGIN:VEVENT
STATUS:TENTATIVE
DTSTART:20180322T080000Z
DTEND:20180322T173000Z
SUMMARY:El Impuesto sobre el Incremento de Valor de Terrenos de Naturaleza Urbana
LOCATION:Facultad de Ciencias Jurídicas y Sociales («Teatrillo» de San Pedro Mártir) – Universidad de Castilla-La Mancha – Cobertizo de San Pedro Mártir, s/n. Toledo
DESCRIPTION:Jornada. 
END:VEVENT
END:VCALENDAR
