BEGIN:VCALENDAR
VERSION:2.0
BEGIN:VEVENT
STATUS:TENTATIVE
DTSTART:20180315T160000Z
DTEND:20180315T193000Z
SUMMARY:Jornada sobre la doctrina del Tribunal  Económico-Administrativo Regional de Andalucía.
LOCATION:Salón de Actos  del Colegio de Abogados de Sevilla.  C/ Chapineros, 6
DESCRIPTION:Jornada. 
END:VEVENT
END:VCALENDAR
